BEGIN:VCALENDAR
VERSION:2.0
PRODID:-//Miasto na G&oacute;rze - ECPv6.15.20//NONSGML v1.0//EN
CALSCALE:GREGORIAN
METHOD:PUBLISH
X-ORIGINAL-URL:https://miastonagorze.pl
X-WR-CALDESC:Wydarzenia dla Miasto na G&oacute;rze
REFRESH-INTERVAL;VALUE=DURATION:PT1H
X-Robots-Tag:noindex
X-PUBLISHED-TTL:PT1H
BEGIN:VTIMEZONE
TZID:Europe/Warsaw
BEGIN:DAYLIGHT
TZOFFSETFROM:+0100
TZOFFSETTO:+0200
TZNAME:CEST
DTSTART:20240331T010000
END:DAYLIGHT
BEGIN:STANDARD
TZOFFSETFROM:+0200
TZOFFSETTO:+0100
TZNAME:CET
DTSTART:20241027T010000
END:STANDARD
BEGIN:DAYLIGHT
TZOFFSETFROM:+0100
TZOFFSETTO:+0200
TZNAME:CEST
DTSTART:20250330T010000
END:DAYLIGHT
BEGIN:STANDARD
TZOFFSETFROM:+0200
TZOFFSETTO:+0100
TZNAME:CET
DTSTART:20251026T010000
END:STANDARD
BEGIN:DAYLIGHT
TZOFFSETFROM:+0100
TZOFFSETTO:+0200
TZNAME:CEST
DTSTART:20260329T010000
END:DAYLIGHT
BEGIN:STANDARD
TZOFFSETFROM:+0200
TZOFFSETTO:+0100
TZNAME:CET
DTSTART:20261025T010000
END:STANDARD
END:VTIMEZONE
BEGIN:VEVENT
DTSTART;TZID=Europe/Warsaw:20251119T190000
DTEND;TZID=Europe/Warsaw:20251119T193000
DTSTAMP:20260422T122242
CREATED:20250923T124249Z
LAST-MODIFIED:20250923T124249Z
UID:6959-1763578800-1763580600@miastonagorze.pl
SUMMARY:Spotkanie środowe - Msza Święta z modlitwą o uzdrowienie
DESCRIPTION:
URL:https://miastonagorze.pl/wydarzenie/spotkanie-srodowe-msza-swieta-z-modlitwa-o-uzdrowienie-2/
LOCATION:Kaplica Kościoła w Aleksandrowicach
CATEGORIES:Msza Święta,Spotkanie Środowe
END:VEVENT
END:VCALENDAR