BEGIN:VCALENDAR
VERSION:2.0
PRODID:-//Miasto na G&oacute;rze - ECPv6.15.20//NONSGML v1.0//EN
CALSCALE:GREGORIAN
METHOD:PUBLISH
X-WR-CALNAME:Miasto na G&oacute;rze
X-ORIGINAL-URL:https://miastonagorze.pl
X-WR-CALDESC:Wydarzenia dla Miasto na G&oacute;rze
REFRESH-INTERVAL;VALUE=DURATION:PT1H
X-Robots-Tag:noindex
X-PUBLISHED-TTL:PT1H
BEGIN:VTIMEZONE
TZID:Europe/Warsaw
BEGIN:DAYLIGHT
TZOFFSETFROM:+0100
TZOFFSETTO:+0200
TZNAME:CEST
DTSTART:20240331T010000
END:DAYLIGHT
BEGIN:STANDARD
TZOFFSETFROM:+0200
TZOFFSETTO:+0100
TZNAME:CET
DTSTART:20241027T010000
END:STANDARD
BEGIN:DAYLIGHT
TZOFFSETFROM:+0100
TZOFFSETTO:+0200
TZNAME:CEST
DTSTART:20250330T010000
END:DAYLIGHT
BEGIN:STANDARD
TZOFFSETFROM:+0200
TZOFFSETTO:+0100
TZNAME:CET
DTSTART:20251026T010000
END:STANDARD
BEGIN:DAYLIGHT
TZOFFSETFROM:+0100
TZOFFSETTO:+0200
TZNAME:CEST
DTSTART:20260329T010000
END:DAYLIGHT
BEGIN:STANDARD
TZOFFSETFROM:+0200
TZOFFSETTO:+0100
TZNAME:CET
DTSTART:20261025T010000
END:STANDARD
BEGIN:DAYLIGHT
TZOFFSETFROM:+0100
TZOFFSETTO:+0200
TZNAME:CEST
DTSTART:20270328T010000
END:DAYLIGHT
BEGIN:STANDARD
TZOFFSETFROM:+0200
TZOFFSETTO:+0100
TZNAME:CET
DTSTART:20271031T010000
END:STANDARD
END:VTIMEZONE
BEGIN:VEVENT
DTSTART;TZID=Europe/Warsaw:20260415T190000
DTEND;TZID=Europe/Warsaw:20260415T193000
DTSTAMP:20260419T233719
CREATED:20250923T130759Z
LAST-MODIFIED:20250923T130759Z
UID:6969-1776279600-1776281400@miastonagorze.pl
SUMMARY:Spotkanie środowe - Msza Święta z modlitwą o uzdrowienie
DESCRIPTION:
URL:https://miastonagorze.pl/wydarzenie/spotkanie-srodowe-msza-swieta-z-modlitwa-o-uzdrowienie-7/
LOCATION:Kaplica Kościoła w Aleksandrowicach
CATEGORIES:Msza Święta,Spotkanie Środowe
END:VEVENT
BEGIN:VEVENT
DTSTART;TZID=Europe/Warsaw:20260412T130000
DTEND;TZID=Europe/Warsaw:20260412T140000
DTSTAMP:20260419T233719
CREATED:20250821T211551Z
LAST-MODIFIED:20250923T131514Z
UID:6859-1775998800-1776002400@miastonagorze.pl
SUMMARY:I Komunia Święta - spotkanie całej wspólnoty Miasto na Górze
DESCRIPTION:
URL:https://miastonagorze.pl/wydarzenie/i-komunia-swieta/
LOCATION:Kościół Przenajświętszej Trójcy\, Jana III Sobieskiego 10a\, Bielsko-Biała
CATEGORIES:Msza Święta
END:VEVENT
BEGIN:VEVENT
DTSTART;TZID=Europe/Warsaw:20260401T190000
DTEND;TZID=Europe/Warsaw:20260401T210000
DTSTAMP:20260419T233719
CREATED:20250909T130424Z
LAST-MODIFIED:20250909T130424Z
UID:6908-1775070000-1775077200@miastonagorze.pl
SUMMARY:Spotkanie środowe - uwielbienie i ewangelizacja
DESCRIPTION:
URL:https://miastonagorze.pl/wydarzenie/spotkanie-srodowe-uwielbienie-i-ewangelizacja-8/
LOCATION:Kaplica Kościoła w Aleksandrowicach
CATEGORIES:Spotkanie Środowe
END:VEVENT
BEGIN:VEVENT
DTSTART;TZID=Europe/Warsaw:20260318T190000
DTEND;TZID=Europe/Warsaw:20260318T193000
DTSTAMP:20260419T233719
CREATED:20250923T130720Z
LAST-MODIFIED:20250923T130720Z
UID:6967-1773860400-1773862200@miastonagorze.pl
SUMMARY:Spotkanie środowe - Msza Święta z modlitwą o uzdrowienie
DESCRIPTION:
URL:https://miastonagorze.pl/wydarzenie/spotkanie-srodowe-msza-swieta-z-modlitwa-o-uzdrowienie-6/
LOCATION:Kaplica Kościoła w Aleksandrowicach
CATEGORIES:Msza Święta,Spotkanie Środowe
END:VEVENT
BEGIN:VEVENT
DTSTART;TZID=Europe/Warsaw:20260315T100000
DTEND;TZID=Europe/Warsaw:20260315T133000
DTSTAMP:20260419T233719
CREATED:20250821T210926Z
LAST-MODIFIED:20250821T210926Z
UID:6850-1773568800-1773581400@miastonagorze.pl
SUMMARY:Spotkanie całej wspólnoty Miasto na Górze
DESCRIPTION:
URL:https://miastonagorze.pl/wydarzenie/spotkanie-calej-wspolnoty-miasto-na-gorze-15/
LOCATION:Kubiszówka
CATEGORIES:Spotkanie Niedzielne
END:VEVENT
BEGIN:VEVENT
DTSTART;TZID=Europe/Warsaw:20260304T190000
DTEND;TZID=Europe/Warsaw:20260304T210000
DTSTAMP:20260419T233719
CREATED:20250909T130345Z
LAST-MODIFIED:20250909T130345Z
UID:6906-1772650800-1772658000@miastonagorze.pl
SUMMARY:Spotkanie środowe - uwielbienie i ewangelizacja
DESCRIPTION:
URL:https://miastonagorze.pl/wydarzenie/spotkanie-srodowe-uwielbienie-i-ewangelizacja-7/
LOCATION:Kaplica Kościoła w Aleksandrowicach
CATEGORIES:Spotkanie Środowe
END:VEVENT
BEGIN:VEVENT
DTSTART;TZID=Europe/Warsaw:20260301T100000
DTEND;TZID=Europe/Warsaw:20260301T133000
DTSTAMP:20260419T233719
CREATED:20250821T205533Z
LAST-MODIFIED:20250923T122927Z
UID:6827-1772359200-1772371800@miastonagorze.pl
SUMMARY:Spotkanie formacyjne członków wspólnoty Miasto na Górze
DESCRIPTION:
URL:https://miastonagorze.pl/wydarzenie/spotkanie-formacyjne-przymierza-i-przymierza-w-drodze-27/
LOCATION:Kubiszówka
CATEGORIES:Spotkanie Niedzielne
END:VEVENT
BEGIN:VEVENT
DTSTART;TZID=Europe/Warsaw:20260218T190000
DTEND;TZID=Europe/Warsaw:20260218T193000
DTSTAMP:20260419T233719
CREATED:20250923T130636Z
LAST-MODIFIED:20250923T130636Z
UID:6965-1771441200-1771443000@miastonagorze.pl
SUMMARY:Spotkanie środowe - Msza Święta z modlitwą o uzdrowienie
DESCRIPTION:
URL:https://miastonagorze.pl/wydarzenie/spotkanie-srodowe-msza-swieta-z-modlitwa-o-uzdrowienie-5/
LOCATION:Kaplica Kościoła w Aleksandrowicach
CATEGORIES:Msza Święta,Spotkanie Środowe
END:VEVENT
BEGIN:VEVENT
DTSTART;TZID=Europe/Warsaw:20260215T100000
DTEND;TZID=Europe/Warsaw:20260215T133000
DTSTAMP:20260419T233719
CREATED:20250821T210831Z
LAST-MODIFIED:20250821T210831Z
UID:6848-1771149600-1771162200@miastonagorze.pl
SUMMARY:Spotkanie całej wspólnoty Miasto na Górze
DESCRIPTION:
URL:https://miastonagorze.pl/wydarzenie/spotkanie-calej-wspolnoty-miasto-na-gorze-14/
LOCATION:Kubiszówka
CATEGORIES:Spotkanie Niedzielne
END:VEVENT
BEGIN:VEVENT
DTSTART;TZID=Europe/Warsaw:20260204T190000
DTEND;TZID=Europe/Warsaw:20260204T210000
DTSTAMP:20260419T233719
CREATED:20250909T130208Z
LAST-MODIFIED:20250909T130208Z
UID:6904-1770231600-1770238800@miastonagorze.pl
SUMMARY:Spotkanie środowe - uwielbienie i ewangelizacja
DESCRIPTION:
URL:https://miastonagorze.pl/wydarzenie/spotkanie-srodowe-uwielbienie-i-ewangelizacja-6/
LOCATION:Kaplica Kościoła w Aleksandrowicach
CATEGORIES:Spotkanie Środowe
END:VEVENT
BEGIN:VEVENT
DTSTART;TZID=Europe/Warsaw:20260201T100000
DTEND;TZID=Europe/Warsaw:20260201T133000
DTSTAMP:20260419T233719
CREATED:20250821T205443Z
LAST-MODIFIED:20250923T122940Z
UID:6825-1769940000-1769952600@miastonagorze.pl
SUMMARY:Spotkanie formacyjne członków wspólnoty Miasto na Górze
DESCRIPTION:
URL:https://miastonagorze.pl/wydarzenie/spotkanie-formacyjne-przymierza-i-przymierza-w-drodze-26/
LOCATION:Kubiszówka
CATEGORIES:Spotkanie Niedzielne
END:VEVENT
BEGIN:VEVENT
DTSTART;TZID=Europe/Warsaw:20260121T190000
DTEND;TZID=Europe/Warsaw:20260121T193000
DTSTAMP:20260419T233719
CREATED:20250923T124426Z
LAST-MODIFIED:20250923T124426Z
UID:6963-1769022000-1769023800@miastonagorze.pl
SUMMARY:Spotkanie środowe - Msza Święta z modlitwą o uzdrowienie
DESCRIPTION:
URL:https://miastonagorze.pl/wydarzenie/spotkanie-srodowe-msza-swieta-z-modlitwa-o-uzdrowienie-4/
LOCATION:Kaplica Kościoła w Aleksandrowicach
CATEGORIES:Msza Święta,Spotkanie Środowe
END:VEVENT
BEGIN:VEVENT
DTSTART;TZID=Europe/Warsaw:20260118T100000
DTEND;TZID=Europe/Warsaw:20260118T133000
DTSTAMP:20260419T233719
CREATED:20250821T210615Z
LAST-MODIFIED:20250821T210615Z
UID:6844-1768730400-1768743000@miastonagorze.pl
SUMMARY:Spotkanie całej wspólnoty Miasto na Górze
DESCRIPTION:
URL:https://miastonagorze.pl/wydarzenie/spotkanie-calej-wspolnoty-miasto-na-gorze-12/
LOCATION:Kubiszówka
CATEGORIES:Spotkanie Niedzielne
END:VEVENT
BEGIN:VEVENT
DTSTART;TZID=Europe/Warsaw:20260107T190000
DTEND;TZID=Europe/Warsaw:20260107T210000
DTSTAMP:20260419T233719
CREATED:20250909T130128Z
LAST-MODIFIED:20250909T130128Z
UID:6902-1767812400-1767819600@miastonagorze.pl
SUMMARY:Spotkanie środowe - uwielbienie i ewangelizacja
DESCRIPTION:
URL:https://miastonagorze.pl/wydarzenie/spotkanie-srodowe-uwielbienie-i-ewangelizacja-5/
LOCATION:Kaplica Kościoła w Aleksandrowicach
CATEGORIES:Spotkanie Środowe
END:VEVENT
BEGIN:VEVENT
DTSTART;TZID=Europe/Warsaw:20260104T100000
DTEND;TZID=Europe/Warsaw:20260104T133000
DTSTAMP:20260419T233719
CREATED:20250821T205352Z
LAST-MODIFIED:20250923T122953Z
UID:6823-1767520800-1767533400@miastonagorze.pl
SUMMARY:Spotkanie formacyjne członków wspólnoty Miasto na Górze
DESCRIPTION:
URL:https://miastonagorze.pl/wydarzenie/spotkanie-formacyjne-przymierza-i-przymierza-w-drodze-25/
LOCATION:Kubiszówka
END:VEVENT
BEGIN:VEVENT
DTSTART;TZID=Europe/Warsaw:20251221T100000
DTEND;TZID=Europe/Warsaw:20251221T133000
DTSTAMP:20260419T233719
CREATED:20250821T210510Z
LAST-MODIFIED:20250821T210510Z
UID:6842-1766311200-1766323800@miastonagorze.pl
SUMMARY:Spotkanie OPŁATKOWE całej wspólnoty Miasto na Górze
DESCRIPTION:
URL:https://miastonagorze.pl/wydarzenie/spotkanie-oplatkowe-calej-wspolnoty-miasto-na-gorze-3/
LOCATION:Kubiszówka
CATEGORIES:Spotkanie Niedzielne
END:VEVENT
BEGIN:VEVENT
DTSTART;TZID=Europe/Warsaw:20251217T190000
DTEND;TZID=Europe/Warsaw:20251217T193000
DTSTAMP:20260419T233719
CREATED:20250923T124344Z
LAST-MODIFIED:20250923T124344Z
UID:6961-1765998000-1765999800@miastonagorze.pl
SUMMARY:Spotkanie środowe - Msza Święta z modlitwą o uzdrowienie
DESCRIPTION:
URL:https://miastonagorze.pl/wydarzenie/spotkanie-srodowe-msza-swieta-z-modlitwa-o-uzdrowienie-3/
LOCATION:Kaplica Kościoła w Aleksandrowicach
CATEGORIES:Msza Święta,Spotkanie Środowe
END:VEVENT
BEGIN:VEVENT
DTSTART;TZID=Europe/Warsaw:20251207T100000
DTEND;TZID=Europe/Warsaw:20251207T133000
DTSTAMP:20260419T233719
CREATED:20250821T205257Z
LAST-MODIFIED:20251204T175732Z
UID:6821-1765101600-1765114200@miastonagorze.pl
SUMMARY:Spotkanie całej wspólnoty "Miasto na Górze"
DESCRIPTION:
URL:https://miastonagorze.pl/wydarzenie/spotkanie-formacyjne-przymierza-i-przymierza-w-drodze-24/
LOCATION:Kubiszówka
CATEGORIES:Spotkanie Niedzielne
END:VEVENT
BEGIN:VEVENT
DTSTART;TZID=Europe/Warsaw:20251203T190000
DTEND;TZID=Europe/Warsaw:20251203T210000
DTSTAMP:20260419T233719
CREATED:20250909T130046Z
LAST-MODIFIED:20250909T130046Z
UID:6900-1764788400-1764795600@miastonagorze.pl
SUMMARY:Spotkanie środowe - uwielbienie i ewangelizacja
DESCRIPTION:
URL:https://miastonagorze.pl/wydarzenie/spotkanie-srodowe-uwielbienie-i-ewangelizacja-4/
LOCATION:Kaplica Kościoła w Aleksandrowicach
CATEGORIES:Spotkanie Środowe
END:VEVENT
BEGIN:VEVENT
DTSTART;TZID=Europe/Warsaw:20251123T100000
DTEND;TZID=Europe/Warsaw:20251123T133000
DTSTAMP:20260419T233719
CREATED:20250821T210132Z
LAST-MODIFIED:20250821T210153Z
UID:6837-1763892000-1763904600@miastonagorze.pl
SUMMARY:JUBILEUSZ 40 lat: Spotkanie całej wspólnoty Miasto na Górze
DESCRIPTION:
URL:https://miastonagorze.pl/wydarzenie/jubileusz-40-lat-spotkanie-calej-wspolnoty-miasto-na-gorze/
CATEGORIES:Spotkanie Niedzielne
END:VEVENT
BEGIN:VEVENT
DTSTART;TZID=Europe/Warsaw:20251122T180000
DTEND;TZID=Europe/Warsaw:20251122T190000
DTSTAMP:20260419T233719
CREATED:20250821T210334Z
LAST-MODIFIED:20250821T210334Z
UID:6839-1763834400-1763838000@miastonagorze.pl
SUMMARY:JUBILEUSZ 40 lat - GALA
DESCRIPTION:
URL:https://miastonagorze.pl/wydarzenie/jubileusz-40-lat-gala/
LOCATION:BCK
END:VEVENT
BEGIN:VEVENT
DTSTART;TZID=Europe/Warsaw:20251119T190000
DTEND;TZID=Europe/Warsaw:20251119T193000
DTSTAMP:20260419T233720
CREATED:20250923T124249Z
LAST-MODIFIED:20250923T124249Z
UID:6959-1763578800-1763580600@miastonagorze.pl
SUMMARY:Spotkanie środowe - Msza Święta z modlitwą o uzdrowienie
DESCRIPTION:
URL:https://miastonagorze.pl/wydarzenie/spotkanie-srodowe-msza-swieta-z-modlitwa-o-uzdrowienie-2/
LOCATION:Kaplica Kościoła w Aleksandrowicach
CATEGORIES:Msza Święta,Spotkanie Środowe
END:VEVENT
BEGIN:VEVENT
DTSTART;TZID=Europe/Warsaw:20251105T190000
DTEND;TZID=Europe/Warsaw:20251105T210000
DTSTAMP:20260419T233720
CREATED:20250909T125958Z
LAST-MODIFIED:20250909T125958Z
UID:6898-1762369200-1762376400@miastonagorze.pl
SUMMARY:Spotkanie środowe - uwielbienie i ewangelizacja
DESCRIPTION:
URL:https://miastonagorze.pl/wydarzenie/spotkanie-srodowe-uwielbienie-i-ewangelizacja-3/
LOCATION:Kaplica Kościoła w Aleksandrowicach
CATEGORIES:Spotkanie Środowe
END:VEVENT
BEGIN:VEVENT
DTSTART;TZID=Europe/Warsaw:20251102T100000
DTEND;TZID=Europe/Warsaw:20251102T133000
DTSTAMP:20260419T233720
CREATED:20250821T205146Z
LAST-MODIFIED:20250923T123033Z
UID:6819-1762077600-1762090200@miastonagorze.pl
SUMMARY:Spotkanie formacyjne członków wspólnoty Miasto na Górze
DESCRIPTION:
URL:https://miastonagorze.pl/wydarzenie/spotkanie-formacyjne-przymierza-i-przymierza-w-drodze-23/
LOCATION:Kubiszówka
CATEGORIES:Spotkanie Niedzielne
END:VEVENT
BEGIN:VEVENT
DTSTART;TZID=Europe/Warsaw:20251025T180000
DTEND;TZID=Europe/Warsaw:20251025T210000
DTSTAMP:20260419T233720
CREATED:20250923T200703Z
LAST-MODIFIED:20250923T200729Z
UID:6976-1761415200-1761426000@miastonagorze.pl
SUMMARY:Spotkanie mężczyzn
DESCRIPTION:Temat: 3 (o)szustki
URL:https://miastonagorze.pl/wydarzenie/spotkanie-mezczyzn-3/
LOCATION:Restauracja Romantyczna\, ul. Kolejowa 80\, Bielsko-Biała\, Poland
CATEGORIES:Warsztaty
END:VEVENT
BEGIN:VEVENT
DTSTART;TZID=Europe/Warsaw:20251019T100000
DTEND;TZID=Europe/Warsaw:20251019T133000
DTSTAMP:20260419T233720
CREATED:20250821T205955Z
LAST-MODIFIED:20250821T205955Z
UID:6835-1760868000-1760880600@miastonagorze.pl
SUMMARY:Spotkanie całej wspólnoty Miasto na Górze
DESCRIPTION:
URL:https://miastonagorze.pl/wydarzenie/spotkanie-calej-wspolnoty-miasto-na-gorze-11/
LOCATION:Kubiszówka
CATEGORIES:Spotkanie Niedzielne
END:VEVENT
BEGIN:VEVENT
DTSTART;TZID=Europe/Warsaw:20251015T190000
DTEND;TZID=Europe/Warsaw:20251015T193000
DTSTAMP:20260419T233720
CREATED:20250923T123510Z
LAST-MODIFIED:20250923T123510Z
UID:6957-1760554800-1760556600@miastonagorze.pl
SUMMARY:Spotkanie środowe - Msza Święta z modlitwą o uzdrowienie
DESCRIPTION:
URL:https://miastonagorze.pl/wydarzenie/spotkanie-srodowe-msza-swieta-z-modlitwa-o-uzdrowienie/
LOCATION:Kaplica Kościoła w Aleksandrowicach
CATEGORIES:Msza Święta,Spotkanie Środowe
END:VEVENT
BEGIN:VEVENT
DTSTART;TZID=Europe/Warsaw:20251005T100000
DTEND;TZID=Europe/Warsaw:20251005T133000
DTSTAMP:20260419T233720
CREATED:20250821T205019Z
LAST-MODIFIED:20250923T123044Z
UID:6817-1759658400-1759671000@miastonagorze.pl
SUMMARY:Spotkanie formacyjne członków wspólnoty Miasto na Górze
DESCRIPTION:
URL:https://miastonagorze.pl/wydarzenie/spotkanie-formacyjne-przymierza-i-przymierza-w-drodze-22/
LOCATION:Kubiszówka
END:VEVENT
BEGIN:VEVENT
DTSTART;TZID=Europe/Warsaw:20251004T080000
DTEND;TZID=Europe/Warsaw:20251004T103000
DTSTAMP:20260419T233720
CREATED:20250821T212047Z
LAST-MODIFIED:20250821T212047Z
UID:6862-1759564800-1759573800@miastonagorze.pl
SUMMARY:Śniadanie kobiet
DESCRIPTION:
URL:https://miastonagorze.pl/wydarzenie/sniadanie-kobiet/
END:VEVENT
BEGIN:VEVENT
DTSTART;TZID=Europe/Warsaw:20251001T190000
DTEND;TZID=Europe/Warsaw:20251001T210000
DTSTAMP:20260419T233720
CREATED:20250909T125910Z
LAST-MODIFIED:20250909T125910Z
UID:6896-1759345200-1759352400@miastonagorze.pl
SUMMARY:Spotkanie środowe - uwielbienie i ewangelizacja
DESCRIPTION:
URL:https://miastonagorze.pl/wydarzenie/spotkanie-srodowe-uwielbienie-i-ewangelizacja-2/
LOCATION:Kaplica Kościoła w Aleksandrowicach
CATEGORIES:Spotkanie Środowe
END:VEVENT
END:VCALENDAR