BEGIN:VCALENDAR
VERSION:2.0
PRODID:-//Miasto na G&oacute;rze - ECPv6.15.20//NONSGML v1.0//EN
CALSCALE:GREGORIAN
METHOD:PUBLISH
X-WR-CALNAME:Miasto na G&oacute;rze
X-ORIGINAL-URL:https://miastonagorze.pl
X-WR-CALDESC:Wydarzenia dla Miasto na G&oacute;rze
REFRESH-INTERVAL;VALUE=DURATION:PT1H
X-Robots-Tag:noindex
X-PUBLISHED-TTL:PT1H
BEGIN:VTIMEZONE
TZID:Europe/Warsaw
BEGIN:DAYLIGHT
TZOFFSETFROM:+0100
TZOFFSETTO:+0200
TZNAME:CEST
DTSTART:20250330T010000
END:DAYLIGHT
BEGIN:STANDARD
TZOFFSETFROM:+0200
TZOFFSETTO:+0100
TZNAME:CET
DTSTART:20251026T010000
END:STANDARD
BEGIN:DAYLIGHT
TZOFFSETFROM:+0100
TZOFFSETTO:+0200
TZNAME:CEST
DTSTART:20260329T010000
END:DAYLIGHT
BEGIN:STANDARD
TZOFFSETFROM:+0200
TZOFFSETTO:+0100
TZNAME:CET
DTSTART:20261025T010000
END:STANDARD
BEGIN:DAYLIGHT
TZOFFSETFROM:+0100
TZOFFSETTO:+0200
TZNAME:CEST
DTSTART:20270328T010000
END:DAYLIGHT
BEGIN:STANDARD
TZOFFSETFROM:+0200
TZOFFSETTO:+0100
TZNAME:CET
DTSTART:20271031T010000
END:STANDARD
END:VTIMEZONE
BEGIN:VEVENT
DTSTART;TZID=Europe/Warsaw:20260315T100000
DTEND;TZID=Europe/Warsaw:20260315T133000
DTSTAMP:20260420T095259
CREATED:20250821T210926Z
LAST-MODIFIED:20250821T210926Z
UID:6850-1773568800-1773581400@miastonagorze.pl
SUMMARY:Spotkanie całej wspólnoty Miasto na Górze
DESCRIPTION:
URL:https://miastonagorze.pl/wydarzenie/spotkanie-calej-wspolnoty-miasto-na-gorze-15/
LOCATION:Kubiszówka
CATEGORIES:Spotkanie Niedzielne
END:VEVENT
BEGIN:VEVENT
DTSTART;TZID=Europe/Warsaw:20260318T190000
DTEND;TZID=Europe/Warsaw:20260318T193000
DTSTAMP:20260420T095259
CREATED:20250923T130720Z
LAST-MODIFIED:20250923T130720Z
UID:6967-1773860400-1773862200@miastonagorze.pl
SUMMARY:Spotkanie środowe - Msza Święta z modlitwą o uzdrowienie
DESCRIPTION:
URL:https://miastonagorze.pl/wydarzenie/spotkanie-srodowe-msza-swieta-z-modlitwa-o-uzdrowienie-6/
LOCATION:Kaplica Kościoła w Aleksandrowicach
CATEGORIES:Msza Święta,Spotkanie Środowe
END:VEVENT
BEGIN:VEVENT
DTSTART;TZID=Europe/Warsaw:20260401T190000
DTEND;TZID=Europe/Warsaw:20260401T210000
DTSTAMP:20260420T095259
CREATED:20250909T130424Z
LAST-MODIFIED:20250909T130424Z
UID:6908-1775070000-1775077200@miastonagorze.pl
SUMMARY:Spotkanie środowe - uwielbienie i ewangelizacja
DESCRIPTION:
URL:https://miastonagorze.pl/wydarzenie/spotkanie-srodowe-uwielbienie-i-ewangelizacja-8/
LOCATION:Kaplica Kościoła w Aleksandrowicach
CATEGORIES:Spotkanie Środowe
END:VEVENT
BEGIN:VEVENT
DTSTART;TZID=Europe/Warsaw:20260412T130000
DTEND;TZID=Europe/Warsaw:20260412T140000
DTSTAMP:20260420T095259
CREATED:20250821T211551Z
LAST-MODIFIED:20250923T131514Z
UID:6859-1775998800-1776002400@miastonagorze.pl
SUMMARY:I Komunia Święta - spotkanie całej wspólnoty Miasto na Górze
DESCRIPTION:
URL:https://miastonagorze.pl/wydarzenie/i-komunia-swieta/
LOCATION:Kościół Przenajświętszej Trójcy\, Jana III Sobieskiego 10a\, Bielsko-Biała
CATEGORIES:Msza Święta
END:VEVENT
BEGIN:VEVENT
DTSTART;TZID=Europe/Warsaw:20260415T190000
DTEND;TZID=Europe/Warsaw:20260415T193000
DTSTAMP:20260420T095259
CREATED:20250923T130759Z
LAST-MODIFIED:20250923T130759Z
UID:6969-1776279600-1776281400@miastonagorze.pl
SUMMARY:Spotkanie środowe - Msza Święta z modlitwą o uzdrowienie
DESCRIPTION:
URL:https://miastonagorze.pl/wydarzenie/spotkanie-srodowe-msza-swieta-z-modlitwa-o-uzdrowienie-7/
LOCATION:Kaplica Kościoła w Aleksandrowicach
CATEGORIES:Msza Święta,Spotkanie Środowe
END:VEVENT
BEGIN:VEVENT
DTSTART;VALUE=DATE:20260418
DTEND;VALUE=DATE:20260420
DTSTAMP:20260420T095259
CREATED:20250821T210734Z
LAST-MODIFIED:20250821T211929Z
UID:6846-1776470400-1776643199@miastonagorze.pl
SUMMARY:Wyjazd wspólnoty
DESCRIPTION:
URL:https://miastonagorze.pl/wydarzenie/spotkanie-calej-wspolnoty-miasto-na-gorze-13/
CATEGORIES:Wyjazd
END:VEVENT
BEGIN:VEVENT
DTSTART;TZID=Europe/Warsaw:20260506T190000
DTEND;TZID=Europe/Warsaw:20260506T210000
DTSTAMP:20260420T095259
CREATED:20250909T130506Z
LAST-MODIFIED:20250909T130506Z
UID:6910-1778094000-1778101200@miastonagorze.pl
SUMMARY:Spotkanie środowe - uwielbienie i ewangelizacja
DESCRIPTION:
URL:https://miastonagorze.pl/wydarzenie/spotkanie-srodowe-uwielbienie-i-ewangelizacja-9/
LOCATION:Kaplica Kościoła w Aleksandrowicach
CATEGORIES:Spotkanie Środowe
END:VEVENT
BEGIN:VEVENT
DTSTART;TZID=Europe/Warsaw:20260510T100000
DTEND;TZID=Europe/Warsaw:20260510T133000
DTSTAMP:20260420T095259
CREATED:20250821T205645Z
LAST-MODIFIED:20250923T122907Z
UID:6829-1778407200-1778419800@miastonagorze.pl
SUMMARY:Spotkanie formacyjne członków wspólnoty Miasto na Górze
DESCRIPTION:
URL:https://miastonagorze.pl/wydarzenie/spotkanie-formacyjne-przymierza-i-przymierza-w-drodze-28/
LOCATION:Kubiszówka
CATEGORIES:Spotkanie Niedzielne
END:VEVENT
BEGIN:VEVENT
DTSTART;TZID=Europe/Warsaw:20260520T190000
DTEND;TZID=Europe/Warsaw:20260520T193000
DTSTAMP:20260420T095259
CREATED:20250923T130836Z
LAST-MODIFIED:20250923T130836Z
UID:6971-1779303600-1779305400@miastonagorze.pl
SUMMARY:Spotkanie środowe - Msza Święta z modlitwą o uzdrowienie
DESCRIPTION:
URL:https://miastonagorze.pl/wydarzenie/spotkanie-srodowe-msza-swieta-z-modlitwa-o-uzdrowienie-8/
LOCATION:Kaplica Kościoła w Aleksandrowicach
CATEGORIES:Msza Święta,Spotkanie Środowe
END:VEVENT
BEGIN:VEVENT
DTSTART;TZID=Europe/Warsaw:20260523T200000
DTEND;TZID=Europe/Warsaw:20260523T200000
DTSTAMP:20260420T095259
CREATED:20250821T211432Z
LAST-MODIFIED:20250821T211432Z
UID:6857-1779566400-1779566400@miastonagorze.pl
SUMMARY:Wigilia Zesłania Ducha Świętego
DESCRIPTION:
URL:https://miastonagorze.pl/wydarzenie/wigilia-zeslania-ducha-swietego-2/
END:VEVENT
BEGIN:VEVENT
DTSTART;TZID=Europe/Warsaw:20260603T190000
DTEND;TZID=Europe/Warsaw:20260603T210000
DTSTAMP:20260420T095259
CREATED:20250909T130545Z
LAST-MODIFIED:20250909T130545Z
UID:6912-1780513200-1780520400@miastonagorze.pl
SUMMARY:Spotkanie środowe - uwielbienie i ewangelizacja
DESCRIPTION:
URL:https://miastonagorze.pl/wydarzenie/spotkanie-srodowe-uwielbienie-i-ewangelizacja-10/
LOCATION:Kaplica Kościoła w Aleksandrowicach
CATEGORIES:Spotkanie Środowe
END:VEVENT
BEGIN:VEVENT
DTSTART;TZID=Europe/Warsaw:20260607T100000
DTEND;TZID=Europe/Warsaw:20260607T133000
DTSTAMP:20260420T095259
CREATED:20250821T205740Z
LAST-MODIFIED:20250923T122856Z
UID:6831-1780826400-1780839000@miastonagorze.pl
SUMMARY:Spotkanie formacyjne członków wspólnoty Miasto na Górze
DESCRIPTION:
URL:https://miastonagorze.pl/wydarzenie/spotkanie-formacyjne-przymierza-i-przymierza-w-drodze-29/
LOCATION:Kubiszówka
CATEGORIES:Spotkanie Niedzielne
END:VEVENT
BEGIN:VEVENT
DTSTART;TZID=Europe/Warsaw:20260617T190000
DTEND;TZID=Europe/Warsaw:20260617T193000
DTSTAMP:20260420T095259
CREATED:20250923T130916Z
LAST-MODIFIED:20250923T130916Z
UID:6973-1781722800-1781724600@miastonagorze.pl
SUMMARY:Spotkanie środowe - Msza Święta z modlitwą o uzdrowienie
DESCRIPTION:
URL:https://miastonagorze.pl/wydarzenie/spotkanie-srodowe-msza-swieta-z-modlitwa-o-uzdrowienie-9/
LOCATION:Kaplica Kościoła w Aleksandrowicach
CATEGORIES:Msza Święta,Spotkanie Środowe
END:VEVENT
BEGIN:VEVENT
DTSTART;TZID=Europe/Warsaw:20260621T100000
DTEND;TZID=Europe/Warsaw:20260621T170000
DTSTAMP:20260420T095259
CREATED:20250821T211157Z
LAST-MODIFIED:20250821T211157Z
UID:6852-1782036000-1782061200@miastonagorze.pl
SUMMARY:Spotkanie całej wspólnoty Miasto na Górze + PIKNIK
DESCRIPTION:
URL:https://miastonagorze.pl/wydarzenie/spotkanie-calej-wspolnoty-miasto-na-gorze-piknik-2/
LOCATION:parafia św. Andrzeja Boboli
CATEGORIES:Spotkanie Niedzielne
END:VEVENT
END:VCALENDAR