BEGIN:VCALENDAR
VERSION:2.0
PRODID:-//Miasto na G&oacute;rze - ECPv6.15.20//NONSGML v1.0//EN
CALSCALE:GREGORIAN
METHOD:PUBLISH
X-ORIGINAL-URL:https://miastonagorze.pl
X-WR-CALDESC:Wydarzenia dla Miasto na G&oacute;rze
REFRESH-INTERVAL;VALUE=DURATION:PT1H
X-Robots-Tag:noindex
X-PUBLISHED-TTL:PT1H
BEGIN:VTIMEZONE
TZID:Europe/Warsaw
BEGIN:DAYLIGHT
TZOFFSETFROM:+0100
TZOFFSETTO:+0200
TZNAME:CEST
DTSTART:20240331T010000
END:DAYLIGHT
BEGIN:STANDARD
TZOFFSETFROM:+0200
TZOFFSETTO:+0100
TZNAME:CET
DTSTART:20241027T010000
END:STANDARD
BEGIN:DAYLIGHT
TZOFFSETFROM:+0100
TZOFFSETTO:+0200
TZNAME:CEST
DTSTART:20250330T010000
END:DAYLIGHT
BEGIN:STANDARD
TZOFFSETFROM:+0200
TZOFFSETTO:+0100
TZNAME:CET
DTSTART:20251026T010000
END:STANDARD
BEGIN:DAYLIGHT
TZOFFSETFROM:+0100
TZOFFSETTO:+0200
TZNAME:CEST
DTSTART:20260329T010000
END:DAYLIGHT
BEGIN:STANDARD
TZOFFSETFROM:+0200
TZOFFSETTO:+0100
TZNAME:CET
DTSTART:20261025T010000
END:STANDARD
END:VTIMEZONE
BEGIN:VEVENT
DTSTART;TZID=Europe/Warsaw:20250625T190000
DTEND;TZID=Europe/Warsaw:20250625T203000
DTSTAMP:20260420T062359
CREATED:20240903T090229Z
LAST-MODIFIED:20240903T090229Z
UID:6152-1750878000-1750883400@miastonagorze.pl
SUMMARY:Spotkanie środowe - uwielbienie
DESCRIPTION:
URL:https://miastonagorze.pl/wydarzenie/spotkanie-srodowe-uwielbienie-9/
LOCATION:Kaplica Kościoła w Aleksandrowicach
CATEGORIES:Spotkanie Środowe
END:VEVENT
BEGIN:VEVENT
DTSTART;TZID=Europe/Warsaw:20250618T170000
DTEND;TZID=Europe/Warsaw:20250618T220000
DTSTAMP:20260420T062359
CREATED:20240903T125958Z
LAST-MODIFIED:20240903T125958Z
UID:6204-1750266000-1750284000@miastonagorze.pl
SUMMARY:Spotkanie mężczyzn
DESCRIPTION:
URL:https://miastonagorze.pl/wydarzenie/spotkanie-mezczyzn-2/
END:VEVENT
BEGIN:VEVENT
DTSTART;TZID=Europe/Warsaw:20250615T100000
DTEND;TZID=Europe/Warsaw:20250615T130000
DTSTAMP:20260420T062359
CREATED:20240829T165509Z
LAST-MODIFIED:20240829T165509Z
UID:6037-1749981600-1749992400@miastonagorze.pl
SUMMARY:Spotkanie całej wspólnoty Miasto na Górze + PIKNIK
DESCRIPTION:
URL:https://miastonagorze.pl/wydarzenie/spotkanie-calej-wspolnoty-miasto-na-gorze-piknik/
LOCATION:parafia św. Andrzeja Boboli
CATEGORIES:Spotkanie Niedzielne
END:VEVENT
BEGIN:VEVENT
DTSTART;VALUE=DATE:20250613
DTEND;VALUE=DATE:20250615
DTSTAMP:20260420T062359
CREATED:20240903T125851Z
LAST-MODIFIED:20240903T125851Z
UID:6202-1749772800-1749945599@miastonagorze.pl
SUMMARY:Spotkanie planujące
DESCRIPTION:
URL:https://miastonagorze.pl/wydarzenie/spotkanie-planujace-3/
END:VEVENT
BEGIN:VEVENT
DTSTART;TZID=Europe/Warsaw:20250611T190000
DTEND;TZID=Europe/Warsaw:20250611T200000
DTSTAMP:20260420T062359
CREATED:20240903T084546Z
LAST-MODIFIED:20250610T203538Z
UID:6136-1749668400-1749672000@miastonagorze.pl
SUMMARY:Spotkanie środowe - Msza Święta
DESCRIPTION:
URL:https://miastonagorze.pl/wydarzenie/spotkanie-srodowe-formacyjne-14/
LOCATION:Kaplica Kościoła w Aleksandrowicach
CATEGORIES:Spotkanie Środowe
END:VEVENT
BEGIN:VEVENT
DTSTART;VALUE=DATE:20250608
DTEND;VALUE=DATE:20250609
DTSTAMP:20260420T062359
CREATED:20240903T125817Z
LAST-MODIFIED:20240903T125817Z
UID:6200-1749340800-1749427199@miastonagorze.pl
SUMMARY:Zesłanie Ducha Świętego
DESCRIPTION:
URL:https://miastonagorze.pl/wydarzenie/zeslanie-ducha-swietego/
END:VEVENT
BEGIN:VEVENT
DTSTART;TZID=Europe/Warsaw:20250604T190000
DTEND;TZID=Europe/Warsaw:20250604T203000
DTSTAMP:20260420T062359
CREATED:20240903T082458Z
LAST-MODIFIED:20240903T082458Z
UID:6116-1749063600-1749069000@miastonagorze.pl
SUMMARY:Spotkanie środowe - Msza Święta
DESCRIPTION:
URL:https://miastonagorze.pl/wydarzenie/spotkanie-srodowe-msza-swieta-9/
LOCATION:Kaplica Kościoła w Aleksandrowicach
CATEGORIES:Spotkanie Środowe
END:VEVENT
BEGIN:VEVENT
DTSTART;TZID=Europe/Warsaw:20250601T100000
DTEND;TZID=Europe/Warsaw:20250601T130000
DTSTAMP:20260420T062359
CREATED:20240829T163653Z
LAST-MODIFIED:20240829T163653Z
UID:6021-1748772000-1748782800@miastonagorze.pl
SUMMARY:Spotkanie formacyjne Przymierza i Przymierza w Drodze
DESCRIPTION:
URL:https://miastonagorze.pl/wydarzenie/spotkanie-formacyjne-przymierza-i-przymierza-w-drodze-20/
LOCATION:Kubiszówka
CATEGORIES:Spotkanie Niedzielne
END:VEVENT
BEGIN:VEVENT
DTSTART;VALUE=DATE:20250531
DTEND;VALUE=DATE:20250602
DTSTAMP:20260420T062359
CREATED:20240903T080448Z
LAST-MODIFIED:20240903T080448Z
UID:6096-1748649600-1748822399@miastonagorze.pl
SUMMARY:Wyjazd Ruchu
DESCRIPTION:
URL:https://miastonagorze.pl/wydarzenie/wyjazd-ruchu-6/
LOCATION:Ośrodek wypoczynkowo rekolekcyjny Totus Tuus\, Zembrzyce 503
CATEGORIES:Wyjazd
END:VEVENT
BEGIN:VEVENT
DTSTART;TZID=Europe/Warsaw:20250528T190000
DTEND;TZID=Europe/Warsaw:20250528T203000
DTSTAMP:20260420T062359
CREATED:20240903T090151Z
LAST-MODIFIED:20240903T090151Z
UID:6150-1748458800-1748464200@miastonagorze.pl
SUMMARY:Spotkanie środowe - uwielbienie
DESCRIPTION:
URL:https://miastonagorze.pl/wydarzenie/spotkanie-srodowe-uwielbienie-8/
LOCATION:Kaplica Kościoła w Aleksandrowicach
CATEGORIES:Spotkanie Środowe
END:VEVENT
BEGIN:VEVENT
DTSTART;TZID=Europe/Warsaw:20250525T100000
DTEND;TZID=Europe/Warsaw:20250525T130000
DTSTAMP:20260420T062359
CREATED:20240829T165141Z
LAST-MODIFIED:20250520T125607Z
UID:6035-1748167200-1748178000@miastonagorze.pl
SUMMARY:Spotkanie całej wspólnoty Miasto na Górze
DESCRIPTION:
URL:https://miastonagorze.pl/wydarzenie/spotkanie-calej-wspolnoty-miasto-na-gorze-9/
LOCATION:Dom Kultury w Lipniku\, Podgórna 29\, Bielsko-Biała\, Poland
CATEGORIES:Spotkanie Niedzielne
END:VEVENT
BEGIN:VEVENT
DTSTART;VALUE=DATE:20250524
DTEND;VALUE=DATE:20250526
DTSTAMP:20260420T062359
CREATED:20240903T125639Z
LAST-MODIFIED:20240903T125639Z
UID:6198-1748044800-1748217599@miastonagorze.pl
SUMMARY:Majówka Kobiet
DESCRIPTION:
URL:https://miastonagorze.pl/wydarzenie/majowka-kobiet-3/
END:VEVENT
BEGIN:VEVENT
DTSTART;VALUE=DATE:20250516
DTEND;VALUE=DATE:20250519
DTSTAMP:20260420T062359
CREATED:20250415T202121Z
LAST-MODIFIED:20250415T202121Z
UID:6733-1747353600-1747612799@miastonagorze.pl
SUMMARY:Wyjazd "ojciec - syn"
DESCRIPTION:
URL:https://miastonagorze.pl/wydarzenie/wyjazd-ojciec-syn/
LOCATION:Agroturystyka pod Gronikami\, Podszkle 191\, Piekielnik\, 34-472\, Poland
CATEGORIES:CeDeN,Dzieci,Harambee,Wyjazd
END:VEVENT
BEGIN:VEVENT
DTSTART;TZID=Europe/Warsaw:20250514T190000
DTEND;TZID=Europe/Warsaw:20250514T203000
DTSTAMP:20260420T062359
CREATED:20240903T084511Z
LAST-MODIFIED:20240903T084511Z
UID:6134-1747249200-1747254600@miastonagorze.pl
SUMMARY:Spotkanie środowe - formacyjne
DESCRIPTION:
URL:https://miastonagorze.pl/wydarzenie/spotkanie-srodowe-formacyjne-13/
LOCATION:Kaplica Kościoła w Aleksandrowicach
CATEGORIES:Spotkanie Środowe
END:VEVENT
BEGIN:VEVENT
DTSTART;TZID=Europe/Warsaw:20250511T100000
DTEND;TZID=Europe/Warsaw:20250511T130000
DTSTAMP:20260420T062359
CREATED:20240829T163526Z
LAST-MODIFIED:20240829T163526Z
UID:6019-1746957600-1746968400@miastonagorze.pl
SUMMARY:Spotkanie formacyjne Przymierza i Przymierza w Drodze
DESCRIPTION:
URL:https://miastonagorze.pl/wydarzenie/spotkanie-formacyjne-przymierza-i-przymierza-w-drodze-19/
LOCATION:Kubiszówka
CATEGORIES:Spotkanie Niedzielne
END:VEVENT
BEGIN:VEVENT
DTSTART;VALUE=DATE:20250510
DTEND;VALUE=DATE:20250511
DTSTAMP:20260420T062359
CREATED:20240903T125557Z
LAST-MODIFIED:20240903T125557Z
UID:6196-1746835200-1746921599@miastonagorze.pl
SUMMARY:Wielkie Świętowanie Wigilii Niedzieli
DESCRIPTION:
URL:https://miastonagorze.pl/wydarzenie/wielkie-swietowanie-wigilii-niedzieli-3/
END:VEVENT
BEGIN:VEVENT
DTSTART;TZID=Europe/Warsaw:20250507T190000
DTEND;TZID=Europe/Warsaw:20250507T203000
DTSTAMP:20260420T062359
CREATED:20240903T082410Z
LAST-MODIFIED:20240903T082410Z
UID:6114-1746644400-1746649800@miastonagorze.pl
SUMMARY:Spotkanie środowe - Msza Święta
DESCRIPTION:
URL:https://miastonagorze.pl/wydarzenie/spotkanie-srodowe-msza-swieta-8/
LOCATION:Kaplica Kościoła w Aleksandrowicach
CATEGORIES:Spotkanie Środowe
END:VEVENT
BEGIN:VEVENT
DTSTART;VALUE=DATE:20250427
DTEND;VALUE=DATE:20250428
DTSTAMP:20260420T062359
CREATED:20240903T125513Z
LAST-MODIFIED:20240903T125513Z
UID:6193-1745712000-1745798399@miastonagorze.pl
SUMMARY:Pierwsza Komunia Święta
DESCRIPTION:
URL:https://miastonagorze.pl/wydarzenie/pierwsza-komunia-swieta/
LOCATION:Kościół Przenajświętszej Trójcy\, Jana III Sobieskiego 10a\, Bielsko-Biała
CATEGORIES:Msza Święta
END:VEVENT
BEGIN:VEVENT
DTSTART;TZID=Europe/Warsaw:20250423T190000
DTEND;TZID=Europe/Warsaw:20250423T203000
DTSTAMP:20260420T062359
CREATED:20240903T090108Z
LAST-MODIFIED:20240903T090108Z
UID:6148-1745434800-1745440200@miastonagorze.pl
SUMMARY:Spotkanie środowe - uwielbienie
DESCRIPTION:
URL:https://miastonagorze.pl/wydarzenie/spotkanie-srodowe-uwielbienie-7/
LOCATION:Kaplica Kościoła w Aleksandrowicach
CATEGORIES:Spotkanie Środowe
END:VEVENT
BEGIN:VEVENT
DTSTART;VALUE=DATE:20250419
DTEND;VALUE=DATE:20250421
DTSTAMP:20260420T062359
CREATED:20250821T211320Z
LAST-MODIFIED:20250821T211320Z
UID:6855-1745020800-1745193599@miastonagorze.pl
SUMMARY:Wyjazd wspólnotowy
DESCRIPTION:
URL:https://miastonagorze.pl/wydarzenie/wyjazd-wspolnotowy/
CATEGORIES:Wyjazd
END:VEVENT
BEGIN:VEVENT
DTSTART;TZID=Europe/Warsaw:20250409T190000
DTEND;TZID=Europe/Warsaw:20250409T203000
DTSTAMP:20260420T062359
CREATED:20240903T084437Z
LAST-MODIFIED:20240903T084437Z
UID:6132-1744225200-1744230600@miastonagorze.pl
SUMMARY:Spotkanie środowe - formacyjne
DESCRIPTION:
URL:https://miastonagorze.pl/wydarzenie/spotkanie-srodowe-formacyjne-12/
LOCATION:Kaplica Kościoła w Aleksandrowicach
CATEGORIES:Spotkanie Środowe
END:VEVENT
BEGIN:VEVENT
DTSTART;VALUE=DATE:20250405
DTEND;VALUE=DATE:20250407
DTSTAMP:20260420T062359
CREATED:20240829T171451Z
LAST-MODIFIED:20250331T082353Z
UID:6045-1743811200-1743983999@miastonagorze.pl
SUMMARY:Wyjazd Wspólnoty Miasto na Górze
DESCRIPTION:Plan wyjazdu\nSobota\n09:00 Przyjazd i zakwaterowanie \n10:00 Uroczysta Msza Święta z przyjęciem Przymierza w Drodze do Przymierza [kaplica] \n12:00 Czas wolny / zakwaterowanie / budowa relacji / kawa \n13:00 Obiad \n14:45 Przedstawienie osób przyjętych do Przymierza (opieka dla dzieci) [sala konferencyjna] \n17:00 Wigilia niedzieli [sala konferencyjna] \n18:00 Kolacja \n19:00 Spotkanie modlitewne [sala konferencyjna] \n21:00 Ognisko (opcja\, dla chętnych) \nNiedziela\n07:00 Modlitwa osobista \n08:00 Śniadanie \n09:00 Formacja Kształt (opieka dla dzieci) [sala konferencyjna] \n11:00 Przedstawienie nowego Przymierza w Drodze z Hałcnowa (opieka dla dzieci) [sala konferencyjna] \n12:30 Msza Święta [kaplica] \n13:30 Obiad
URL:https://miastonagorze.pl/wydarzenie/wyjazd-wspolnoty-przymierza/
LOCATION:Ośrodek wypoczynkowo rekolekcyjny Totus Tuus\, Zembrzyce 503
CATEGORIES:Wyjazd
END:VEVENT
BEGIN:VEVENT
DTSTART;TZID=Europe/Warsaw:20250402T190000
DTEND;TZID=Europe/Warsaw:20250402T203000
DTSTAMP:20260420T062359
CREATED:20240903T082315Z
LAST-MODIFIED:20240903T082315Z
UID:6112-1743620400-1743625800@miastonagorze.pl
SUMMARY:Spotkanie środowe - Msza Święta
DESCRIPTION:
URL:https://miastonagorze.pl/wydarzenie/spotkanie-srodowe-msza-swieta-7/
LOCATION:Kaplica Kościoła w Aleksandrowicach
CATEGORIES:Spotkanie Środowe
END:VEVENT
BEGIN:VEVENT
DTSTART;TZID=Europe/Warsaw:20250326T190000
DTEND;TZID=Europe/Warsaw:20250326T203000
DTSTAMP:20260420T062359
CREATED:20240903T090031Z
LAST-MODIFIED:20240903T090031Z
UID:6146-1743015600-1743021000@miastonagorze.pl
SUMMARY:Spotkanie środowe - uwielbienie
DESCRIPTION:
URL:https://miastonagorze.pl/wydarzenie/spotkanie-srodowe-uwielbienie-6/
LOCATION:Kaplica Kościoła w Aleksandrowicach
CATEGORIES:Spotkanie Środowe
END:VEVENT
BEGIN:VEVENT
DTSTART;VALUE=DATE:20250320
DTEND;VALUE=DATE:20250321
DTSTAMP:20260420T062359
CREATED:20240829T171843Z
LAST-MODIFIED:20240829T171843Z
UID:6051-1742428800-1742515199@miastonagorze.pl
SUMMARY:Rada Wspólnoty
DESCRIPTION:
URL:https://miastonagorze.pl/wydarzenie/rada-wspolnoty-5/
END:VEVENT
BEGIN:VEVENT
DTSTART;TZID=Europe/Warsaw:20250316T100000
DTEND;TZID=Europe/Warsaw:20250316T130000
DTSTAMP:20260420T062359
CREATED:20240829T165028Z
LAST-MODIFIED:20240829T165028Z
UID:6033-1742119200-1742130000@miastonagorze.pl
SUMMARY:Spotkanie całej wspólnoty Miasto na Górze
DESCRIPTION:
URL:https://miastonagorze.pl/wydarzenie/spotkanie-calej-wspolnoty-miasto-na-gorze-8/
LOCATION:Kubiszówka
CATEGORIES:Spotkanie Niedzielne
END:VEVENT
BEGIN:VEVENT
DTSTART;TZID=Europe/Warsaw:20250312T190000
DTEND;TZID=Europe/Warsaw:20250312T203000
DTSTAMP:20260420T062359
CREATED:20240903T084359Z
LAST-MODIFIED:20240903T084359Z
UID:6130-1741806000-1741811400@miastonagorze.pl
SUMMARY:Spotkanie środowe - formacyjne
DESCRIPTION:
URL:https://miastonagorze.pl/wydarzenie/spotkanie-srodowe-formacyjne-11/
LOCATION:Kaplica Kościoła w Aleksandrowicach
CATEGORIES:Spotkanie Środowe
END:VEVENT
BEGIN:VEVENT
DTSTART;VALUE=DATE:20250308
DTEND;VALUE=DATE:20250309
DTSTAMP:20260420T062359
CREATED:20240912T073300Z
LAST-MODIFIED:20240912T073300Z
UID:6211-1741392000-1741478399@miastonagorze.pl
SUMMARY:Spotkanie Wielkopostne Kobiet
DESCRIPTION:
URL:https://miastonagorze.pl/wydarzenie/spotkanie-wielkopostne-kobiet/
LOCATION:Kościół w Aleksandrowicach
END:VEVENT
BEGIN:VEVENT
DTSTART;TZID=Europe/Warsaw:20250305T190000
DTEND;TZID=Europe/Warsaw:20250305T203000
DTSTAMP:20260420T062359
CREATED:20240903T082236Z
LAST-MODIFIED:20240903T082236Z
UID:6110-1741201200-1741206600@miastonagorze.pl
SUMMARY:Spotkanie środowe - Msza Święta
DESCRIPTION:
URL:https://miastonagorze.pl/wydarzenie/spotkanie-srodowe-msza-swieta-6/
LOCATION:Kaplica Kościoła w Aleksandrowicach
CATEGORIES:Spotkanie Środowe
END:VEVENT
BEGIN:VEVENT
DTSTART;TZID=Europe/Warsaw:20250302T100000
DTEND;TZID=Europe/Warsaw:20250302T130000
DTSTAMP:20260420T062359
CREATED:20240829T163347Z
LAST-MODIFIED:20240829T163347Z
UID:6017-1740909600-1740920400@miastonagorze.pl
SUMMARY:Spotkanie formacyjne Przymierza i Przymierza w Drodze
DESCRIPTION:
URL:https://miastonagorze.pl/wydarzenie/spotkanie-formacyjne-przymierza-i-przymierza-w-drodze-18/
LOCATION:Kubiszówka
END:VEVENT
END:VCALENDAR